BEGIN:VCALENDAR
VERSION:2.0
PRODID:-//Miami Mom Collective - ECPv6.15.20//NONSGML v1.0//EN
CALSCALE:GREGORIAN
METHOD:PUBLISH
X-WR-CALNAME:Miami Mom Collective
X-ORIGINAL-URL:https://miamimomcollective.com
X-WR-CALDESC:Events for Miami Mom Collective
REFRESH-INTERVAL;VALUE=DURATION:PT1H
X-Robots-Tag:noindex
X-PUBLISHED-TTL:PT1H
BEGIN:VTIMEZONE
TZID:America/New_York
BEGIN:DAYLIGHT
TZOFFSETFROM:-0500
TZOFFSETTO:-0400
TZNAME:EDT
DTSTART:20250309T070000
END:DAYLIGHT
BEGIN:STANDARD
TZOFFSETFROM:-0400
TZOFFSETTO:-0500
TZNAME:EST
DTSTART:20251102T060000
END:STANDARD
BEGIN:DAYLIGHT
TZOFFSETFROM:-0500
TZOFFSETTO:-0400
TZNAME:EDT
DTSTART:20260308T070000
END:DAYLIGHT
BEGIN:STANDARD
TZOFFSETFROM:-0400
TZOFFSETTO:-0500
TZNAME:EST
DTSTART:20261101T060000
END:STANDARD
BEGIN:DAYLIGHT
TZOFFSETFROM:-0500
TZOFFSETTO:-0400
TZNAME:EDT
DTSTART:20270314T070000
END:DAYLIGHT
BEGIN:STANDARD
TZOFFSETFROM:-0400
TZOFFSETTO:-0500
TZNAME:EST
DTSTART:20271107T060000
END:STANDARD
END:VTIMEZONE
BEGIN:VEVENT
DTSTART;TZID=America/New_York:20260420T090000
DTEND;TZID=America/New_York:20260426T200000
DTSTAMP:20260421T110226
CREATED:20260420T195334Z
LAST-MODIFIED:20260420T195334Z
UID:10005449-1776675600-1777233600@miamimomcollective.com
SUMMARY:"Wear the Change” Earth Day Influencer Pop-Ups with Goodwill South Florida
DESCRIPTION:Celebrate Earth Month and sustainable style with Goodwill’s “Wear the Change” pop-ups\, a special influencer‑curated experience at select locations. Local content creators @karen of Motherish and @carothetourguide will each hand‑select secondhand fashion and lifestyle finds to create personalized mini boutiques at Goodwill’s Biscayne and Calle Ocho stores. \nBrowse unique\, affordable pieces curated through each influencer’s distinct style\, and discover how choosing secondhand can make a meaningful impact for Earth Day and beyond Come thrift\, get inspired\, and wear the change.
URL:https://miamimomcollective.com/event/wear-the-change-earth-day-influencer-pop-ups-with-goodwill-south-florida/
LOCATION:Goodwill South Florida\, 441 NE 81st St\, Miami\, FL\, 33138\, United States
ORGANIZER;CN="Goodwill South Florida":MAILTO:MaPerez@Goodwillmiami.org
END:VEVENT
END:VCALENDAR