BEGIN:VCALENDAR
VERSION:2.0
PRODID:-//Miami Mom Collective - ECPv6.15.20//NONSGML v1.0//EN
CALSCALE:GREGORIAN
METHOD:PUBLISH
X-ORIGINAL-URL:https://miamimomcollective.com
X-WR-CALDESC:Events for Miami Mom Collective
REFRESH-INTERVAL;VALUE=DURATION:PT1H
X-Robots-Tag:noindex
X-PUBLISHED-TTL:PT1H
BEGIN:VTIMEZONE
TZID:America/New_York
BEGIN:DAYLIGHT
TZOFFSETFROM:-0500
TZOFFSETTO:-0400
TZNAME:EDT
DTSTART:20250309T070000
END:DAYLIGHT
BEGIN:STANDARD
TZOFFSETFROM:-0400
TZOFFSETTO:-0500
TZNAME:EST
DTSTART:20251102T060000
END:STANDARD
BEGIN:DAYLIGHT
TZOFFSETFROM:-0500
TZOFFSETTO:-0400
TZNAME:EDT
DTSTART:20260308T070000
END:DAYLIGHT
BEGIN:STANDARD
TZOFFSETFROM:-0400
TZOFFSETTO:-0500
TZNAME:EST
DTSTART:20261101T060000
END:STANDARD
BEGIN:DAYLIGHT
TZOFFSETFROM:-0500
TZOFFSETTO:-0400
TZNAME:EDT
DTSTART:20270314T070000
END:DAYLIGHT
BEGIN:STANDARD
TZOFFSETFROM:-0400
TZOFFSETTO:-0500
TZNAME:EST
DTSTART:20271107T060000
END:STANDARD
END:VTIMEZONE
BEGIN:VEVENT
DTSTART;TZID=America/New_York:20260426T060000
DTEND;TZID=America/New_York:20260426T100000
DTSTAMP:20260424T101850
CREATED:20260423T114947Z
LAST-MODIFIED:20260423T114947Z
UID:10008008-1777183200-1777197600@miamimomcollective.com
SUMMARY:15th Annual UKG & Salah Foundation Hero’s Pride Move With MADD & MADD Dash Fort Lauderdale 5K
DESCRIPTION:In the ongoing fight against drunk driving and drugged driving\, MADD Southeast Florida will host the 15th Annual UKG & Salah Foundation Hero’s Pride Move With MADD & MADD Dash Fort Lauderdale 5K Presented by the Florida Panthers & the Sheriff’s Foundation of Broward County on Sunday\, April 26. Thousands of walkers\, runners\, strollers\, wheelchair athletes\, dogs and supporters of all ages will come together in downtown Fort Lauderdale to take steps to raise awareness and funds to end impaired driving for good. The in-person race will start near Huizenga Plaza at 7:30 a.m. Awards will be given for top fundraiser\, top team (private and corporate)\, as well as overall and age-group awards for 5K finishers. \nCelebrating its 15th anniversary\, the annual event will debut its rebrand as Move With MADD & MADD Dash Fort Lauderdale 5K in 2026\, reflecting expanded momentum in the fight against impaired driving and deepened community engagement. Heather Geronemus founded Move With MADD and MADD Dash Fort Lauderdale 5K Founder and Chairperson after her late father\, Dr. Robert Perry Geronemus\, was struck and killed by a drunk driver in 2009. \nMove With MADD & MADD Dash Fort Lauderdale 5K is a community-driven 5K that raises awareness about drunk and drugged driving and underage drinking while uniting community members around MADD’s mission. Since it was established in 2011\, Move With MADD & MADD Dash Fort Lauderdale 5K has raised more than $4.2 million that stays in the South Florida community to save lives and support victims of drunk driving\, making it the most successful grassroots fundraiser in the history of MADD. Every dollar donated remains in South Florida to provide victim services and prevention education at no cost. \nFestivities will include children’s activities\, an awards ceremony\, live musical performances\, and vendor/educational booths. The event will be attended by dignitaries\, including Move With MADD and MADD Dash Fort Lauderdale 5K Founder and Chairperson Heather Geronemus; Honorary Chairperson Colonel Nichole Anderson\, Undersheriff of Broward Sheriff’s Office; Broward County Sheriff Gregory Tony; Sgt. Ryan Clifton from Broward Sheriff’s Office; Sgt. Trevor Thomas from Fort Lauderdale Police Department’s DUI Unit; and Lt. Indiana Miranda from Florida Highway Patrol. \nMADD is committed to leading prevention efforts with young adults\, collaborating with law enforcement to keep roads safe from impaired drivers\, as well as advocating for stricter sentencing and stronger laws\, including the HALT Law that mandates anti-drunk driving technology in every new car. MADD continues to provide support services to victims and survivors of impaired driving at no charge through victim services specialists and the 24-Hour Victim Help Line. \nEvent Timeline:\nIn-Person Registration: 6 a.m.\nCeremony: 7:00 a.m.\n5K Race Begins: 7:30 a.m. \nEvent sponsorships are available and range from $1\,500 to $50\,000. \nWhen:\nSunday\, April 26\, 2026\, at 6 a.m. \nWhere:\nAcross from Huizenga Plaza\nSE 1st Avenue and Las Olas Blvd.\nFort Lauderdale\, Florida\, 33301 \nCost (In-person and Virtual):\nAdult 5K Runner and Walker: $40\nYouth 5K Runner and Walker (ages 5-18): $35\nDogs: $10 \nWebsite:\nhttps://give.madd.org/event/2026-move-with-madd-and-madd-dash-fort-lauderdale-5k/e733214
URL:https://miamimomcollective.com/event/15th-annual-ukg-salah-foundation-heros-pride-move-with-madd-madd-dash-fort-lauderdale-5k/
LOCATION:Huizenga Plaza\, SE 1st Avenue and Las Olas Blvd.\, Fort Lauderdale\, Florida\, 33301\, United States
ORGANIZER;CN="MADD":MAILTO:madd@dureeandcompany.com
END:VEVENT
END:VCALENDAR